BEGIN:VCALENDAR
VERSION:2.0
PRODID:-//Daily Pooja Seva - ECPv6.6.1//NONSGML v1.0//EN
CALSCALE:GREGORIAN
METHOD:PUBLISH
X-WR-CALNAME:Daily Pooja Seva
X-ORIGINAL-URL:https://dailypoojaseva.com
X-WR-CALDESC:Events for Daily Pooja Seva
REFRESH-INTERVAL;VALUE=DURATION:PT1H
X-Robots-Tag:noindex
X-PUBLISHED-TTL:PT1H
BEGIN:VTIMEZONE
TZID:UTC
BEGIN:STANDARD
TZOFFSETFROM:+0000
TZOFFSETTO:+0000
TZNAME:UTC
DTSTART:20250101T000000
END:STANDARD
END:VTIMEZONE
BEGIN:VEVENT
DTSTART;VALUE=DATE:20250707
DTEND;VALUE=DATE:20250708
DTSTAMP:20260423T020315
CREATED:20250628T173906Z
LAST-MODIFIED:20250628T173906Z
UID:8909-1751846400-1751932799@dailypoojaseva.com
SUMMARY:07-07-2025 – திங்கள்கிழமை - சதுர்மாஸ்ய விரத ஆரம்பம்
DESCRIPTION:
URL:https://dailypoojaseva.com/event/07-07-2025-%e0%ae%a4%e0%ae%bf%e0%ae%99%e0%af%8d%e0%ae%95%e0%ae%b3%e0%af%8d%e0%ae%95%e0%ae%bf%e0%ae%b4%e0%ae%ae%e0%af%88-%e0%ae%9a%e0%ae%a4%e0%af%81%e0%ae%b0%e0%af%8d%e0%ae%ae%e0%ae%be/
ATTACH;FMTTYPE=image/jpeg:https://dailypoojaseva.com/wp-content/uploads/2025/06/chaturmasya-vratham_1688022047858_1688022048028.jpg
END:VEVENT
END:VCALENDAR