BEGIN:VCALENDAR
VERSION:2.0
PRODID:-//Daily Pooja Seva - ECPv6.6.1//NONSGML v1.0//EN
CALSCALE:GREGORIAN
METHOD:PUBLISH
X-ORIGINAL-URL:https://dailypoojaseva.com
X-WR-CALDESC:Events for Daily Pooja Seva
REFRESH-INTERVAL;VALUE=DURATION:PT1H
X-Robots-Tag:noindex
X-PUBLISHED-TTL:PT1H
BEGIN:VTIMEZONE
TZID:UTC
BEGIN:STANDARD
TZOFFSETFROM:+0000
TZOFFSETTO:+0000
TZNAME:UTC
DTSTART:20250101T000000
END:STANDARD
END:VTIMEZONE
BEGIN:VEVENT
DTSTART;VALUE=DATE:20250708
DTEND;VALUE=DATE:20250709
DTSTAMP:20260423T020333
CREATED:20250628T174010Z
LAST-MODIFIED:20250628T174010Z
UID:8912-1751932800-1752019199@dailypoojaseva.com
SUMMARY:08-07-2025 – செவ்வாய்கிழமை – பிரதோஷம்
DESCRIPTION:
URL:https://dailypoojaseva.com/event/08-07-2025-%e0%ae%9a%e0%af%86%e0%ae%b5%e0%af%8d%e0%ae%b5%e0%ae%be%e0%ae%af%e0%af%8d%e0%ae%95%e0%ae%bf%e0%ae%b4%e0%ae%ae%e0%af%88-%e0%ae%aa%e0%ae%bf%e0%ae%b0%e0%ae%a4%e0%af%8b/
ATTACH;FMTTYPE=image/jpeg:https://dailypoojaseva.com/wp-content/uploads/2024/08/sani-pradosham.jpg
END:VEVENT
END:VCALENDAR