BEGIN:VCALENDAR
VERSION:2.0
PRODID:-//Daily Pooja Seva - ECPv6.6.1//NONSGML v1.0//EN
CALSCALE:GREGORIAN
METHOD:PUBLISH
X-WR-CALNAME:Daily Pooja Seva
X-ORIGINAL-URL:https://dailypoojaseva.com
X-WR-CALDESC:Events for Daily Pooja Seva
REFRESH-INTERVAL;VALUE=DURATION:PT1H
X-Robots-Tag:noindex
X-PUBLISHED-TTL:PT1H
BEGIN:VTIMEZONE
TZID:UTC
BEGIN:STANDARD
TZOFFSETFROM:+0000
TZOFFSETTO:+0000
TZNAME:UTC
DTSTART:20250101T000000
END:STANDARD
END:VTIMEZONE
BEGIN:VEVENT
DTSTART;VALUE=DATE:20250904
DTEND;VALUE=DATE:20250905
DTSTAMP:20260422T230442
CREATED:20250825T174343Z
LAST-MODIFIED:20250825T174343Z
UID:9015-1756944000-1757030399@dailypoojaseva.com
SUMMARY:04-Sep-2025 – வியாழன்- வாமன ஜெயந்தி
DESCRIPTION:
URL:https://dailypoojaseva.com/event/04-sep-2025-%e0%ae%b5%e0%ae%bf%e0%ae%af%e0%ae%be%e0%ae%b4%e0%ae%a9%e0%af%8d-%e0%ae%b5%e0%ae%be%e0%ae%ae%e0%ae%a9-%e0%ae%9c%e0%af%86%e0%ae%af%e0%ae%a8%e0%af%8d%e0%ae%a4%e0%ae%bf/
ATTACH;FMTTYPE=image/jpeg:https://dailypoojaseva.com/wp-content/uploads/2025/08/vamana.jpg
END:VEVENT
END:VCALENDAR