BEGIN:VCALENDAR
VERSION:2.0
PRODID:-//Daily Pooja Seva - ECPv6.6.1//NONSGML v1.0//EN
CALSCALE:GREGORIAN
METHOD:PUBLISH
X-WR-CALNAME:Daily Pooja Seva
X-ORIGINAL-URL:https://dailypoojaseva.com
X-WR-CALDESC:Events for Daily Pooja Seva
REFRESH-INTERVAL;VALUE=DURATION:PT1H
X-Robots-Tag:noindex
X-PUBLISHED-TTL:PT1H
BEGIN:VTIMEZONE
TZID:UTC
BEGIN:STANDARD
TZOFFSETFROM:+0000
TZOFFSETTO:+0000
TZNAME:UTC
DTSTART:20250101T000000
END:STANDARD
END:VTIMEZONE
BEGIN:VEVENT
DTSTART;VALUE=DATE:20250917
DTEND;VALUE=DATE:20250918
DTSTAMP:20260422T230403
CREATED:20250915T023020Z
LAST-MODIFIED:20250915T023020Z
UID:9028-1758067200-1758153599@dailypoojaseva.com
SUMMARY:17-Sep-2025 – புதன்- ஏகாதசி
DESCRIPTION:
URL:https://dailypoojaseva.com/event/17-sep-2025-%e0%ae%aa%e0%af%81%e0%ae%a4%e0%ae%a9%e0%af%8d-%e0%ae%8f%e0%ae%95%e0%ae%be%e0%ae%a4%e0%ae%9a%e0%ae%bf/
ATTACH;FMTTYPE=image/jpeg:https://dailypoojaseva.com/wp-content/uploads/2024/09/Namam.jpeg
END:VEVENT
END:VCALENDAR