BEGIN:VCALENDAR
VERSION:2.0
PRODID:-//Daily Pooja Seva - ECPv6.6.1//NONSGML v1.0//EN
CALSCALE:GREGORIAN
METHOD:PUBLISH
X-ORIGINAL-URL:https://dailypoojaseva.com
X-WR-CALDESC:Events for Daily Pooja Seva
REFRESH-INTERVAL;VALUE=DURATION:PT1H
X-Robots-Tag:noindex
X-PUBLISHED-TTL:PT1H
BEGIN:VTIMEZONE
TZID:UTC
BEGIN:STANDARD
TZOFFSETFROM:+0000
TZOFFSETTO:+0000
TZNAME:UTC
DTSTART:20250101T000000
END:STANDARD
END:VTIMEZONE
BEGIN:VEVENT
DTSTART;VALUE=DATE:20250921
DTEND;VALUE=DATE:20250922
DTSTAMP:20260422T230755
CREATED:20250915T023422Z
LAST-MODIFIED:20250915T023422Z
UID:9033-1758412800-1758499199@dailypoojaseva.com
SUMMARY:21-Sep-2025 – ஞாயிறு - மஹாளய அமாவாசை
DESCRIPTION:
URL:https://dailypoojaseva.com/event/21-sep-2025-%e0%ae%9e%e0%ae%be%e0%ae%af%e0%ae%bf%e0%ae%b1%e0%af%81-%e0%ae%ae%e0%ae%b9%e0%ae%be%e0%ae%b3%e0%ae%af-%e0%ae%85%e0%ae%ae%e0%ae%be%e0%ae%b5%e0%ae%be%e0%ae%9a%e0%af%88/
ATTACH;FMTTYPE=image/jpeg:https://dailypoojaseva.com/wp-content/uploads/2024/08/amavasai.jpg
END:VEVENT
END:VCALENDAR