BEGIN:VCALENDAR
VERSION:2.0
PRODID:-//Daily Pooja Seva - ECPv6.6.1//NONSGML v1.0//EN
CALSCALE:GREGORIAN
METHOD:PUBLISH
X-WR-CALNAME:Daily Pooja Seva
X-ORIGINAL-URL:https://dailypoojaseva.com
X-WR-CALDESC:Events for Daily Pooja Seva
REFRESH-INTERVAL;VALUE=DURATION:PT1H
X-Robots-Tag:noindex
X-PUBLISHED-TTL:PT1H
BEGIN:VTIMEZONE
TZID:UTC
BEGIN:STANDARD
TZOFFSETFROM:+0000
TZOFFSETTO:+0000
TZNAME:UTC
DTSTART:20250101T000000
END:STANDARD
END:VTIMEZONE
BEGIN:VEVENT
DTSTART;VALUE=DATE:20251010
DTEND;VALUE=DATE:20251011
DTSTAMP:20260422T213002
CREATED:20251003T172114Z
LAST-MODIFIED:20251003T172114Z
UID:9065-1760054400-1760140799@dailypoojaseva.com
SUMMARY:10-Oct-2025 – வெள்ளி -  சங்கட ஹர சதுர்த்தி
DESCRIPTION:
URL:https://dailypoojaseva.com/event/10-oct-2025-%e0%ae%b5%e0%af%86%e0%ae%b3%e0%af%8d%e0%ae%b3%e0%ae%bf-%e0%ae%9a%e0%ae%99%e0%af%8d%e0%ae%95%e0%ae%9f-%e0%ae%b9%e0%ae%b0-%e0%ae%9a%e0%ae%a4%e0%af%81%e0%ae%b0%e0%af%8d%e0%ae%a4/
ATTACH;FMTTYPE=image/jpeg:https://dailypoojaseva.com/wp-content/uploads/2024/08/karpaga-vinayagar.jpg
END:VEVENT
END:VCALENDAR