BEGIN:VCALENDAR
VERSION:2.0
PRODID:-//Daily Pooja Seva - ECPv6.6.1//NONSGML v1.0//EN
CALSCALE:GREGORIAN
METHOD:PUBLISH
X-ORIGINAL-URL:https://dailypoojaseva.com
X-WR-CALDESC:Events for Daily Pooja Seva
REFRESH-INTERVAL;VALUE=DURATION:PT1H
X-Robots-Tag:noindex
X-PUBLISHED-TTL:PT1H
BEGIN:VTIMEZONE
TZID:UTC
BEGIN:STANDARD
TZOFFSETFROM:+0000
TZOFFSETTO:+0000
TZNAME:UTC
DTSTART:20250101T000000
END:STANDARD
END:VTIMEZONE
BEGIN:VEVENT
DTSTART;VALUE=DATE:20251022
DTEND;VALUE=DATE:20251023
DTSTAMP:20260422T213233
CREATED:20251017T181043Z
LAST-MODIFIED:20251017T181043Z
UID:9075-1761091200-1761177599@dailypoojaseva.com
SUMMARY:22-Oct-2025- புதன்- ஸ்கந்த சஷ்டி உற்சவம் ஆரம்பம்
DESCRIPTION:
URL:https://dailypoojaseva.com/event/22-oct-2025-%e0%ae%aa%e0%af%81%e0%ae%a4%e0%ae%a9%e0%af%8d-%e0%ae%b8%e0%af%8d%e0%ae%95%e0%ae%a8%e0%af%8d%e0%ae%a4-%e0%ae%9a%e0%ae%b7%e0%af%8d%e0%ae%9f%e0%ae%bf-%e0%ae%89%e0%ae%b1%e0%af%8d%e0%ae%9a/
ATTACH;FMTTYPE=image/jpeg:https://dailypoojaseva.com/wp-content/uploads/2024/08/sasti-viratham.jpg
END:VEVENT
END:VCALENDAR