BEGIN:VCALENDAR
VERSION:2.0
PRODID:-//Daily Pooja Seva - ECPv6.6.1//NONSGML v1.0//EN
CALSCALE:GREGORIAN
METHOD:PUBLISH
X-WR-CALNAME:Daily Pooja Seva
X-ORIGINAL-URL:https://dailypoojaseva.com
X-WR-CALDESC:Events for Daily Pooja Seva
REFRESH-INTERVAL;VALUE=DURATION:PT1H
X-Robots-Tag:noindex
X-PUBLISHED-TTL:PT1H
BEGIN:VTIMEZONE
TZID:UTC
BEGIN:STANDARD
TZOFFSETFROM:+0000
TZOFFSETTO:+0000
TZNAME:UTC
DTSTART:20260101T000000
END:STANDARD
END:VTIMEZONE
BEGIN:VEVENT
DTSTART;VALUE=DATE:20260414
DTEND;VALUE=DATE:20260415
DTSTAMP:20260422T131529
CREATED:20260405T130537Z
LAST-MODIFIED:20260405T130537Z
UID:9143-1776124800-1776211199@dailypoojaseva.com
SUMMARY:14-Apr-2026 -  பராபவ வருடப் பிறப்பு
DESCRIPTION:
URL:https://dailypoojaseva.com/event/14-apr-2026-%e0%ae%aa%e0%ae%b0%e0%ae%be%e0%ae%aa%e0%ae%b5-%e0%ae%b5%e0%ae%b0%e0%af%81%e0%ae%9f%e0%ae%aa%e0%af%8d-%e0%ae%aa%e0%ae%bf%e0%ae%b1%e0%ae%aa%e0%af%8d%e0%ae%aa%e0%af%81/
ATTACH;FMTTYPE=image/jpeg:https://dailypoojaseva.com/wp-content/uploads/2024/10/snan.jpg
END:VEVENT
END:VCALENDAR