BEGIN:VCALENDAR
VERSION:2.0
PRODID:-//Daily Pooja Seva - ECPv6.6.1//NONSGML v1.0//EN
CALSCALE:GREGORIAN
METHOD:PUBLISH
X-WR-CALNAME:Daily Pooja Seva
X-ORIGINAL-URL:https://dailypoojaseva.com
X-WR-CALDESC:Events for Daily Pooja Seva
REFRESH-INTERVAL;VALUE=DURATION:PT1H
X-Robots-Tag:noindex
X-PUBLISHED-TTL:PT1H
BEGIN:VTIMEZONE
TZID:UTC
BEGIN:STANDARD
TZOFFSETFROM:+0000
TZOFFSETTO:+0000
TZNAME:UTC
DTSTART:20250101T000000
END:STANDARD
END:VTIMEZONE
BEGIN:VEVENT
DTSTART;VALUE=DATE:20250905
DTEND;VALUE=DATE:20250906
DTSTAMP:20260422T225407
CREATED:20250825T174718Z
LAST-MODIFIED:20250825T174718Z
UID:9018-1757030400-1757116799@dailypoojaseva.com
SUMMARY:05-Sep-2025 – வெள்ளி - ஓணம்\, பிரதோஷம்\, சிரவண விரதம்
DESCRIPTION:
URL:https://dailypoojaseva.com/event/05-sep-2025-%e0%ae%b5%e0%af%86%e0%ae%b3%e0%af%8d%e0%ae%b3%e0%ae%bf-%e0%ae%93%e0%ae%a3%e0%ae%ae%e0%af%8d-%e0%ae%aa%e0%ae%bf%e0%ae%b0%e0%ae%a4%e0%af%8b%e0%ae%b7%e0%ae%ae%e0%af%8d-%e0%ae%9a/
ATTACH;FMTTYPE=image/jpeg:https://dailypoojaseva.com/wp-content/uploads/2025/08/onam.jpg
END:VEVENT
BEGIN:VEVENT
DTSTART;VALUE=DATE:20250904
DTEND;VALUE=DATE:20250905
DTSTAMP:20260422T225407
CREATED:20250825T174343Z
LAST-MODIFIED:20250825T174343Z
UID:9015-1756944000-1757030399@dailypoojaseva.com
SUMMARY:04-Sep-2025 – வியாழன்- வாமன ஜெயந்தி
DESCRIPTION:
URL:https://dailypoojaseva.com/event/04-sep-2025-%e0%ae%b5%e0%ae%bf%e0%ae%af%e0%ae%be%e0%ae%b4%e0%ae%a9%e0%af%8d-%e0%ae%b5%e0%ae%be%e0%ae%ae%e0%ae%a9-%e0%ae%9c%e0%af%86%e0%ae%af%e0%ae%a8%e0%af%8d%e0%ae%a4%e0%ae%bf/
ATTACH;FMTTYPE=image/jpeg:https://dailypoojaseva.com/wp-content/uploads/2025/08/vamana.jpg
END:VEVENT
BEGIN:VEVENT
DTSTART;VALUE=DATE:20250903
DTEND;VALUE=DATE:20250904
DTSTAMP:20260422T225407
CREATED:20250825T174026Z
LAST-MODIFIED:20250825T174026Z
UID:9012-1756857600-1756943999@dailypoojaseva.com
SUMMARY:03-Sep-2025 – புதன்- சர்வ ஏகாதசி
DESCRIPTION:
URL:https://dailypoojaseva.com/event/03-sep-2025-%e0%ae%aa%e0%af%81%e0%ae%a4%e0%ae%a9%e0%af%8d-%e0%ae%9a%e0%ae%b0%e0%af%8d%e0%ae%b5-%e0%ae%8f%e0%ae%95%e0%ae%be%e0%ae%a4%e0%ae%9a%e0%ae%bf/
ATTACH;FMTTYPE=image/jpeg:https://dailypoojaseva.com/wp-content/uploads/2024/09/Namam.jpeg
END:VEVENT
BEGIN:VEVENT
DTSTART;VALUE=DATE:20250829
DTEND;VALUE=DATE:20250830
DTSTAMP:20260422T225407
CREATED:20250825T173923Z
LAST-MODIFIED:20250825T173923Z
UID:9010-1756425600-1756511999@dailypoojaseva.com
SUMMARY:29-Aug-2025 – வெள்ளி - சஷ்டி விரதம்
DESCRIPTION:
URL:https://dailypoojaseva.com/event/29-aug-2025-%e0%ae%b5%e0%af%86%e0%ae%b3%e0%af%8d%e0%ae%b3%e0%ae%bf-%e0%ae%9a%e0%ae%b7%e0%af%8d%e0%ae%9f%e0%ae%bf-%e0%ae%b5%e0%ae%bf%e0%ae%b0%e0%ae%a4%e0%ae%ae%e0%af%8d/
ATTACH;FMTTYPE=image/jpeg:https://dailypoojaseva.com/wp-content/uploads/2024/09/vel-e1726419195582.jpeg
END:VEVENT
BEGIN:VEVENT
DTSTART;VALUE=DATE:20250827
DTEND;VALUE=DATE:20250828
DTSTAMP:20260422T225407
CREATED:20250825T173817Z
LAST-MODIFIED:20250825T173817Z
UID:9008-1756252800-1756339199@dailypoojaseva.com
SUMMARY:27-Aug-2025 – புதன் - விநாயகர் சதுர்த்தி
DESCRIPTION:
URL:https://dailypoojaseva.com/event/27-aug-2025-%e0%ae%aa%e0%af%81%e0%ae%a4%e0%ae%a9%e0%af%8d-%e0%ae%b5%e0%ae%bf%e0%ae%a8%e0%ae%be%e0%ae%af%e0%ae%95%e0%ae%b0%e0%af%8d-%e0%ae%9a%e0%ae%a4%e0%af%81%e0%ae%b0%e0%af%8d%e0%ae%a4/
ATTACH;FMTTYPE=image/jpeg:https://dailypoojaseva.com/wp-content/uploads/2024/08/karpaga-vinayagar.jpg
END:VEVENT
BEGIN:VEVENT
DTSTART;VALUE=DATE:20250816
DTEND;VALUE=DATE:20250817
DTSTAMP:20260422T225407
CREATED:20250815T134815Z
LAST-MODIFIED:20250815T134815Z
UID:8996-1755302400-1755388799@dailypoojaseva.com
SUMMARY:16-Aug-2025 சனி கோகுலாஷ்டமி
DESCRIPTION:
URL:https://dailypoojaseva.com/event/16-aug-2025-%e0%ae%9a%e0%ae%a9%e0%ae%bf-%e0%ae%95%e0%af%8b%e0%ae%95%e0%af%81%e0%ae%b2%e0%ae%be%e0%ae%b7%e0%af%8d%e0%ae%9f%e0%ae%ae%e0%ae%bf/
ATTACH;FMTTYPE=image/jpeg:https://dailypoojaseva.com/wp-content/uploads/2024/08/krishna.jpg
END:VEVENT
BEGIN:VEVENT
DTSTART;VALUE=DATE:20250728
DTEND;VALUE=DATE:20250729
DTSTAMP:20260422T225407
CREATED:20250719T163945Z
LAST-MODIFIED:20250719T163945Z
UID:8970-1753660800-1753747199@dailypoojaseva.com
SUMMARY:28-Jul-2025 – திங்கள் - நாக சதுர்த்தி
DESCRIPTION:
URL:https://dailypoojaseva.com/event/28-jul-2025-%e0%ae%a4%e0%ae%bf%e0%ae%99%e0%af%8d%e0%ae%95%e0%ae%b3%e0%af%8d-%e0%ae%a8%e0%ae%be%e0%ae%95-%e0%ae%9a%e0%ae%a4%e0%af%81%e0%ae%b0%e0%af%8d%e0%ae%a4%e0%af%8d%e0%ae%a4%e0%ae%bf/
ATTACH;FMTTYPE=image/jpeg:https://dailypoojaseva.com/wp-content/uploads/2025/07/OIP-713432188.jpg
END:VEVENT
BEGIN:VEVENT
DTSTART;VALUE=DATE:20250724
DTEND;VALUE=DATE:20250725
DTSTAMP:20260422T225407
CREATED:20250719T163555Z
LAST-MODIFIED:20250719T163555Z
UID:8968-1753315200-1753401599@dailypoojaseva.com
SUMMARY:24-Jul-2025 – வியாழன் - அமாவாசை
DESCRIPTION:
URL:https://dailypoojaseva.com/event/24-jul-2025-%e0%ae%b5%e0%ae%bf%e0%ae%af%e0%ae%be%e0%ae%b4%e0%ae%a9%e0%af%8d-%e0%ae%85%e0%ae%ae%e0%ae%be%e0%ae%b5%e0%ae%be%e0%ae%9a%e0%af%88/
ATTACH;FMTTYPE=image/jpeg:https://dailypoojaseva.com/wp-content/uploads/2024/08/amavasai.jpg
END:VEVENT
BEGIN:VEVENT
DTSTART;VALUE=DATE:20250722
DTEND;VALUE=DATE:20250723
DTSTAMP:20260422T225407
CREATED:20250719T163429Z
LAST-MODIFIED:20250719T164344Z
UID:8966-1753142400-1753228799@dailypoojaseva.com
SUMMARY:22-Jul-2025 – செவ்வாய் – பிரதோஷம்
DESCRIPTION:
URL:https://dailypoojaseva.com/event/22-jul-2025-%e0%ae%9a%e0%af%86%e0%ae%b5%e0%af%8d%e0%ae%b5%e0%ae%be%e0%ae%af%e0%af%8d-%e0%ae%aa%e0%ae%bf%e0%ae%b0%e0%ae%a4%e0%af%8b%e0%ae%b7%e0%ae%ae%e0%af%8d/
END:VEVENT
BEGIN:VEVENT
DTSTART;VALUE=DATE:20250721
DTEND;VALUE=DATE:20250722
DTSTAMP:20260422T225407
CREATED:20250719T163334Z
LAST-MODIFIED:20250719T163334Z
UID:8964-1753056000-1753142399@dailypoojaseva.com
SUMMARY:21-Jul-2025 – திங்கள் - சர்வ ஏகாதசி
DESCRIPTION:
URL:https://dailypoojaseva.com/event/21-jul-2025-%e0%ae%a4%e0%ae%bf%e0%ae%99%e0%af%8d%e0%ae%95%e0%ae%b3%e0%af%8d-%e0%ae%9a%e0%ae%b0%e0%af%8d%e0%ae%b5-%e0%ae%8f%e0%ae%95%e0%ae%be%e0%ae%a4%e0%ae%9a%e0%ae%bf/
ATTACH;FMTTYPE=image/jpeg:https://dailypoojaseva.com/wp-content/uploads/2024/09/Namam.jpeg
END:VEVENT
BEGIN:VEVENT
DTSTART;VALUE=DATE:20250720
DTEND;VALUE=DATE:20250721
DTSTAMP:20260422T225407
CREATED:20250719T161913Z
LAST-MODIFIED:20250719T163106Z
UID:8962-1752969600-1753055999@dailypoojaseva.com
SUMMARY:20-Jul-2025 – ஞாயிறு - கிருத்திகை விரதம்
DESCRIPTION:
URL:https://dailypoojaseva.com/event/20-jul-2025-%e0%ae%9e%e0%ae%be%e0%ae%af%e0%ae%bf%e0%ae%b1%e0%af%81-%e0%ae%95%e0%ae%bf%e0%ae%b0%e0%af%81%e0%ae%a4%e0%af%8d%e0%ae%a4%e0%ae%bf%e0%ae%95%e0%af%88-%e0%ae%b5%e0%ae%bf%e0%ae%b0/
ATTACH;FMTTYPE=image/jpeg:https://dailypoojaseva.com/wp-content/uploads/2024/12/vel.jpg
END:VEVENT
BEGIN:VEVENT
DTSTART;TZID=UTC:20250714T080000
DTEND;TZID=UTC:20250714T170000
DTSTAMP:20260422T225407
CREATED:20250628T174210Z
LAST-MODIFIED:20250628T174210Z
UID:8917-1752480000-1752512400@dailypoojaseva.com
SUMMARY:14-07-2025 – திங்கள்கிழமை – சங்கடஹர சதுர்த்தி
DESCRIPTION:
URL:https://dailypoojaseva.com/event/14-07-2025-%e0%ae%a4%e0%ae%bf%e0%ae%99%e0%af%8d%e0%ae%95%e0%ae%b3%e0%af%8d%e0%ae%95%e0%ae%bf%e0%ae%b4%e0%ae%ae%e0%af%88-%e0%ae%9a%e0%ae%99%e0%af%8d%e0%ae%95%e0%ae%9f%e0%ae%b9/
ATTACH;FMTTYPE=image/jpeg:https://dailypoojaseva.com/wp-content/uploads/2024/08/vinayaga.jpg
END:VEVENT
BEGIN:VEVENT
DTSTART;VALUE=DATE:20250710
DTEND;VALUE=DATE:20250711
DTSTAMP:20260422T225407
CREATED:20250628T174108Z
LAST-MODIFIED:20250628T174108Z
UID:8915-1752105600-1752191999@dailypoojaseva.com
SUMMARY:10-07-2025- வியாழக்கிழமை – பௌர்ணமி
DESCRIPTION:
URL:https://dailypoojaseva.com/event/10-07-2025-%e0%ae%b5%e0%ae%bf%e0%ae%af%e0%ae%be%e0%ae%b4%e0%ae%95%e0%af%8d%e0%ae%95%e0%ae%bf%e0%ae%b4%e0%ae%ae%e0%af%88-%e0%ae%aa%e0%af%8c%e0%ae%b0%e0%af%8d%e0%ae%a3%e0%ae%ae%e0%ae%bf/
ATTACH;FMTTYPE=image/jpeg:https://dailypoojaseva.com/wp-content/uploads/2024/09/pournami.jpeg
END:VEVENT
BEGIN:VEVENT
DTSTART;VALUE=DATE:20250708
DTEND;VALUE=DATE:20250709
DTSTAMP:20260422T225407
CREATED:20250628T174010Z
LAST-MODIFIED:20250628T174010Z
UID:8912-1751932800-1752019199@dailypoojaseva.com
SUMMARY:08-07-2025 – செவ்வாய்கிழமை – பிரதோஷம்
DESCRIPTION:
URL:https://dailypoojaseva.com/event/08-07-2025-%e0%ae%9a%e0%af%86%e0%ae%b5%e0%af%8d%e0%ae%b5%e0%ae%be%e0%ae%af%e0%af%8d%e0%ae%95%e0%ae%bf%e0%ae%b4%e0%ae%ae%e0%af%88-%e0%ae%aa%e0%ae%bf%e0%ae%b0%e0%ae%a4%e0%af%8b/
ATTACH;FMTTYPE=image/jpeg:https://dailypoojaseva.com/wp-content/uploads/2024/08/sani-pradosham.jpg
END:VEVENT
BEGIN:VEVENT
DTSTART;VALUE=DATE:20250707
DTEND;VALUE=DATE:20250708
DTSTAMP:20260422T225408
CREATED:20250628T173906Z
LAST-MODIFIED:20250628T173906Z
UID:8909-1751846400-1751932799@dailypoojaseva.com
SUMMARY:07-07-2025 – திங்கள்கிழமை - சதுர்மாஸ்ய விரத ஆரம்பம்
DESCRIPTION:
URL:https://dailypoojaseva.com/event/07-07-2025-%e0%ae%a4%e0%ae%bf%e0%ae%99%e0%af%8d%e0%ae%95%e0%ae%b3%e0%af%8d%e0%ae%95%e0%ae%bf%e0%ae%b4%e0%ae%ae%e0%af%88-%e0%ae%9a%e0%ae%a4%e0%af%81%e0%ae%b0%e0%af%8d%e0%ae%ae%e0%ae%be/
ATTACH;FMTTYPE=image/jpeg:https://dailypoojaseva.com/wp-content/uploads/2025/06/chaturmasya-vratham_1688022047858_1688022048028.jpg
END:VEVENT
BEGIN:VEVENT
DTSTART;VALUE=DATE:20250706
DTEND;VALUE=DATE:20250707
DTSTAMP:20260422T225408
CREATED:20250628T173549Z
LAST-MODIFIED:20250628T173549Z
UID:8907-1751760000-1751846399@dailypoojaseva.com
SUMMARY:06-07-2025 – ஞாயிற்றுக்கிழமை - ஸர்வ சயன ஏகாதசி
DESCRIPTION:
URL:https://dailypoojaseva.com/event/06-07-2025-%e0%ae%9e%e0%ae%be%e0%ae%af%e0%ae%bf%e0%ae%b1%e0%af%8d%e0%ae%b1%e0%af%81%e0%ae%95%e0%af%8d%e0%ae%95%e0%ae%bf%e0%ae%b4%e0%ae%ae%e0%af%88-%e0%ae%b8%e0%ae%b0%e0%af%8d%e0%ae%b5/
ATTACH;FMTTYPE=image/jpeg:https://dailypoojaseva.com/wp-content/uploads/2024/09/Namam.jpeg
END:VEVENT
BEGIN:VEVENT
DTSTART;VALUE=DATE:20250701
DTEND;VALUE=DATE:20250702
DTSTAMP:20260422T225408
CREATED:20250628T173347Z
LAST-MODIFIED:20250628T173347Z
UID:8904-1751328000-1751414399@dailypoojaseva.com
SUMMARY:01-07-2025 – செவ்வாய்கிழமை - சஷ்டி விரதம்
DESCRIPTION:
URL:https://dailypoojaseva.com/event/01-07-2025-%e0%ae%9a%e0%af%86%e0%ae%b5%e0%af%8d%e0%ae%b5%e0%ae%be%e0%ae%af%e0%af%8d%e0%ae%95%e0%ae%bf%e0%ae%b4%e0%ae%ae%e0%af%88-%e0%ae%9a%e0%ae%b7%e0%af%8d%e0%ae%9f%e0%ae%bf-%e0%ae%b5/
ATTACH;FMTTYPE=image/jpeg:https://dailypoojaseva.com/wp-content/uploads/2024/09/vel-e1726419195582.jpeg
END:VEVENT
BEGIN:VEVENT
DTSTART;VALUE=DATE:20250629
DTEND;VALUE=DATE:20250630
DTSTAMP:20260422T225408
CREATED:20250628T172734Z
LAST-MODIFIED:20250628T173446Z
UID:8901-1751155200-1751241599@dailypoojaseva.com
SUMMARY:29-06-2025 – ஞாயிற்றுக்கிழமை - சதுர்த்தி விரதம்
DESCRIPTION:
URL:https://dailypoojaseva.com/event/29-06-2025-%e0%ae%9e%e0%ae%be%e0%ae%af%e0%ae%bf%e0%ae%b1%e0%af%8d%e0%ae%b1%e0%af%81%e0%ae%95%e0%af%8d%e0%ae%95%e0%ae%bf%e0%ae%b4%e0%ae%ae%e0%af%88-%e0%ae%9a%e0%ae%a4%e0%af%81%e0%ae%b0/
ATTACH;FMTTYPE=image/jpeg:https://dailypoojaseva.com/wp-content/uploads/2024/08/karpaga-vinayagar.jpg
END:VEVENT
BEGIN:VEVENT
DTSTART;VALUE=DATE:20250608
DTEND;VALUE=DATE:20250609
DTSTAMP:20260422T225408
CREATED:20250523T101846Z
LAST-MODIFIED:20250523T140033Z
UID:8885-1749340800-1749427199@dailypoojaseva.com
SUMMARY:08-June-2025 – ஞாயிறு - மஹா பிரதோஷம்
DESCRIPTION:
URL:https://dailypoojaseva.com/event/08-june-2025-%e0%ae%9e%e0%ae%be%e0%ae%af%e0%ae%bf%e0%ae%b1%e0%af%81-%e0%ae%ae%e0%ae%b9%e0%ae%be-%e0%ae%aa%e0%ae%bf%e0%ae%b0%e0%ae%a4%e0%af%8b%e0%ae%b7%e0%ae%ae%e0%af%8d/
ATTACH;FMTTYPE=image/jpeg:https://dailypoojaseva.com/wp-content/uploads/2024/08/vinayaga.jpg
END:VEVENT
BEGIN:VEVENT
DTSTART;VALUE=DATE:20250601
DTEND;VALUE=DATE:20250602
DTSTAMP:20260422T225408
CREATED:20250523T101747Z
LAST-MODIFIED:20250523T140351Z
UID:8883-1748736000-1748822399@dailypoojaseva.com
SUMMARY:01-June-2025 – ஞாயிறு - சஷ்டி விரதம்
DESCRIPTION:
URL:https://dailypoojaseva.com/event/01-june-2025-%e0%ae%9e%e0%ae%be%e0%ae%af%e0%ae%bf%e0%ae%b1%e0%af%81-%e0%ae%9a%e0%ae%b7%e0%af%8d%e0%ae%9f%e0%ae%bf-%e0%ae%b5%e0%ae%bf%e0%ae%b0%e0%ae%a4%e0%ae%ae%e0%af%8d/
ATTACH;FMTTYPE=image/jpeg:https://dailypoojaseva.com/wp-content/uploads/2024/12/vel.jpg
END:VEVENT
BEGIN:VEVENT
DTSTART;VALUE=DATE:20250530
DTEND;VALUE=DATE:20250531
DTSTAMP:20260422T225408
CREATED:20250523T101656Z
LAST-MODIFIED:20250523T140824Z
UID:8881-1748563200-1748649599@dailypoojaseva.com
SUMMARY:30-May-2025 – வெள்ளி -  சதுர்த்தி விரதம்
DESCRIPTION:
URL:https://dailypoojaseva.com/event/30-may-2025-%e0%ae%b5%e0%af%86%e0%ae%b3%e0%af%8d%e0%ae%b3%e0%ae%bf-%e0%ae%9a%e0%ae%a4%e0%af%81%e0%ae%b0%e0%af%8d%e0%ae%a4%e0%af%8d%e0%ae%a4%e0%ae%bf-%e0%ae%b5%e0%ae%bf%e0%ae%b0%e0%ae%a4/
ATTACH;FMTTYPE=image/jpeg:https://dailypoojaseva.com/wp-content/uploads/2024/08/vinayaga.jpg
END:VEVENT
BEGIN:VEVENT
DTSTART;VALUE=DATE:20250526
DTEND;VALUE=DATE:20250527
DTSTAMP:20260422T225408
CREATED:20250523T101601Z
LAST-MODIFIED:20250523T141143Z
UID:8879-1748217600-1748303999@dailypoojaseva.com
SUMMARY:26-May-2025 – திங்கள்-  கிருத்திகை விரதம்\, ஸர்வ அமாவாசை
DESCRIPTION:
URL:https://dailypoojaseva.com/event/26-may-2025-%e0%ae%a4%e0%ae%bf%e0%ae%99%e0%af%8d%e0%ae%95%e0%ae%b3%e0%af%8d-%e0%ae%95%e0%ae%bf%e0%ae%b0%e0%af%81%e0%ae%a4%e0%af%8d%e0%ae%a4%e0%ae%bf%e0%ae%95%e0%af%88-%e0%ae%b5%e0%ae%bf/
ATTACH;FMTTYPE=image/jpeg:https://dailypoojaseva.com/wp-content/uploads/2024/08/amavasai.jpg
END:VEVENT
BEGIN:VEVENT
DTSTART;VALUE=DATE:20250524
DTEND;VALUE=DATE:20250525
DTSTAMP:20260422T225408
CREATED:20250523T101450Z
LAST-MODIFIED:20250523T141613Z
UID:8876-1748044800-1748131199@dailypoojaseva.com
SUMMARY:24-May-2025 – சனி - சனி மஹா பிரதோஷம்
DESCRIPTION:
URL:https://dailypoojaseva.com/event/24-may-2025-%e0%ae%9a%e0%ae%a9%e0%ae%bf-%e0%ae%9a%e0%ae%a9%e0%ae%bf-%e0%ae%ae%e0%ae%b9%e0%ae%be-%e0%ae%aa%e0%ae%bf%e0%ae%b0%e0%ae%a4%e0%af%8b%e0%ae%b7%e0%ae%ae%e0%af%8d/
ATTACH;FMTTYPE=image/jpeg:https://dailypoojaseva.com/wp-content/uploads/2024/08/sani-pradosham.jpg
END:VEVENT
BEGIN:VEVENT
DTSTART;VALUE=DATE:20250313
DTEND;VALUE=DATE:20250314
DTSTAMP:20260422T225408
CREATED:20250304T143223Z
LAST-MODIFIED:20250304T143223Z
UID:8872-1741824000-1741910399@dailypoojaseva.com
SUMMARY:13/03/2025 பௌர்ணமி
DESCRIPTION:
URL:https://dailypoojaseva.com/event/13-03-2025-%e0%ae%aa%e0%af%8c%e0%ae%b0%e0%af%8d%e0%ae%a3%e0%ae%ae%e0%ae%bf/
ATTACH;FMTTYPE=image/jpeg:https://dailypoojaseva.com/wp-content/uploads/2024/09/pournami.jpeg
END:VEVENT
BEGIN:VEVENT
DTSTART;VALUE=DATE:20250312
DTEND;VALUE=DATE:20250313
DTSTAMP:20260422T225408
CREATED:20250304T143025Z
LAST-MODIFIED:20250304T143107Z
UID:8867-1741737600-1741823999@dailypoojaseva.com
SUMMARY:12/03/2025  மாசிமகம்
DESCRIPTION:
URL:https://dailypoojaseva.com/event/12-03-2025-%e0%ae%ae%e0%ae%be%e0%ae%9a%e0%ae%bf%e0%ae%ae%e0%ae%95%e0%ae%ae%e0%af%8d/
ATTACH;FMTTYPE=image/webp:https://dailypoojaseva.com/wp-content/uploads/2025/03/Holy-bath.webp
END:VEVENT
BEGIN:VEVENT
DTSTART;VALUE=DATE:20250311
DTEND;VALUE=DATE:20250312
DTSTAMP:20260422T225408
CREATED:20250304T142722Z
LAST-MODIFIED:20250304T142722Z
UID:8865-1741651200-1741737599@dailypoojaseva.com
SUMMARY:11/03/2025 ப்ரதோஷம்
DESCRIPTION:
URL:https://dailypoojaseva.com/event/11-03-2025-%e0%ae%aa%e0%af%8d%e0%ae%b0%e0%ae%a4%e0%af%8b%e0%ae%b7%e0%ae%ae%e0%af%8d/
ATTACH;FMTTYPE=image/jpeg:https://dailypoojaseva.com/wp-content/uploads/2024/08/sani-pradosham.jpg
END:VEVENT
BEGIN:VEVENT
DTSTART;VALUE=DATE:20250310
DTEND;VALUE=DATE:20250311
DTSTAMP:20260422T225408
CREATED:20250304T142053Z
LAST-MODIFIED:20250304T142603Z
UID:8860-1741564800-1741651199@dailypoojaseva.com
SUMMARY:10/03/2025  ஏகாதசி
DESCRIPTION:
URL:https://dailypoojaseva.com/event/10-03-2025-%e0%ae%8f%e0%ae%95%e0%ae%be%e0%ae%a4%e0%ae%9a%e0%ae%bf/
ATTACH;FMTTYPE=image/jpeg:https://dailypoojaseva.com/wp-content/uploads/2024/09/Namam.jpeg
END:VEVENT
BEGIN:VEVENT
DTSTART;VALUE=DATE:20250305
DTEND;VALUE=DATE:20250306
DTSTAMP:20260422T225408
CREATED:20250304T141702Z
LAST-MODIFIED:20250304T142437Z
UID:8855-1741132800-1741219199@dailypoojaseva.com
SUMMARY:05/03/2025  ஷஷ்டி வ்ரதம் \, க்ருத்திகை\,கோவை கோனியம்மன் தேர்
DESCRIPTION:
URL:https://dailypoojaseva.com/event/05-03-2025-%e0%ae%b7%e0%ae%b7%e0%af%8d%e0%ae%9f%e0%ae%bf-%e0%ae%b5%e0%af%8d%e0%ae%b0%e0%ae%a4%e0%ae%ae%e0%af%8d-%e0%ae%95%e0%af%8d%e0%ae%b0%e0%af%81%e0%ae%a4%e0%af%8d%e0%ae%a4%e0%ae%bf%e0%ae%95/
ATTACH;FMTTYPE=image/jpeg:https://dailypoojaseva.com/wp-content/uploads/2024/12/vel.jpg
END:VEVENT
BEGIN:VEVENT
DTSTART;TZID=UTC:20250225T080000
DTEND;TZID=UTC:20250225T170000
DTSTAMP:20260422T225408
CREATED:20250225T163219Z
LAST-MODIFIED:20250225T163219Z
UID:8840-1740470400-1740502800@dailypoojaseva.com
SUMMARY:26-2-2025 மகா சிவராத்திரி
DESCRIPTION:மகா சிவராத்திரி \n  \nசிவராத்திரியில் பல வகைகள் இருந்தாலும் மகா சிவராத்திரிக்கென்று தனித்துவம் உண்டு. சிவபெருமானை வேண்டி பார்வதி தேவி விரதமிருந்து மானிடர்களுக்கு பெறற்கரிய பாக்கியத்தை பெற்று தந்தார். இத்தகைய அற்புதம் வாய்ந்த மகா சிவராத்திரியின் வரலாறு என்ன? எதனால் அந்நாள் ஆலயங்களில் விஷேஷமாக பார்க்கப்படுகிறது? மகா சிவராத்திரி பூஜை முறையை முறையாக கடைபிடித்தால் என்ன பலன் கிடைக்கும்? \n  \nஒரு முறை பூமியில் மகா பிரளயம் ஏற்பட்டது. அப்போது பிரம்ம தேவரும்\, மற்ற பிற உயிர்களும் முற்றிலும் அழிந்து போயின. அவர்களை காப்பாற்ற அன்னை பார்வதி தேவி இரவு பூஜையில் சிவ பெருமானை நினைந்து பூஜிக்க ஆரம்பித்தார். அன்று இரவு முழுவதும் சிவ நாமத்தை உச்சரித்து பூஜை செய்ததன் பலனாக அனைத்து உயிர்களும் காப்பாற்றபட்டன. அன்னையானவள் சிவனை வணங்கி பூஜை செய்த அந்த ராத்திரி சிவராத்திரி என்று அழைக்கப்படுகிறது. \nமாசி மாதம் இந்த நிகழ்வு நடைபெற்றதால் இன்றும் மாசியில் வரும் சிவராத்திரிக்கு மகத்துவம் வாய்ந்த பலன்கள் உண்டு. அதனால் தான் மாசியில் வரும் சிவராத்திரி மகா சிவராத்திரியாக கொண்டாடப்பட்டு வருகிறது பார்வதி தேவி வழிபட்ட இந்நாளில் தேவர்களும்\, முனிவர்களும்\, ரிஷிகளும்\, மனிதர்களும் கூட சிவ பெருமானை நினைந்து சிவ நாமம் ஜெபித்து இரவு முழுவதும் வழிபட்டால் தெரியாமல் செய்த பாவங்கள்\, தெரிந்தே செய்த பாவங்கள் என அனைத்தும் நீங்கும் என்கிறது புராணம். அன்னை நமக்காக வங்கி தந்த வரம் இது. அனைத்து பாக்கியமும் பெற்று இறுதி காலத்தில் மோட்சம் கிட்டுமாம். தெரியாமல் செய்த பாவங்கள் நீங்கும் என்பது சரி. அதென்ன தெரிந்தே செய்த பாவங்கள்? அப்படி என்றால் எந்த விதமான பாவத்தையும் செய்து விட்டு மகா சிவராத்திரி பூஜை செய்தால் போதுமா? செய்த பாவத்திற்கு தண்டனை இல்லையா? என்று கேட்கலாம். சரியான கேள்வி தான். அப்படி தப்பித்து கொள்ள விட்டுவிடும் அளவிற்கு கடவுள் நியாயம் இல்லாதவர் இல்லை. தெரிந்தே செய்யும் பாவங்கள் என்பது வேண்டுமென்றே செய்வது கிடையாது. \nஇதோ ஒரு உதாரணத்திற்கு மகா சிவராத்திரியை வைத்தே ஒரு கதை சொல்லலாம். அடர்ந்த வனத்தில் வேடன் ஒருவன் வேட்டையாட சென்றான். அன்றைய நாளில் அவனுக்கு எந்த வேட்டையும் சிக்கவில்லை. நெடுந்தூரம் பயணம் செய்தும் பயன் இல்லை. செய்வதறியாது நின்ற வேடனை நெருங்கி ஒரு புலி வந்தது. புலி நெருங்குவதை உணர்ந்த அந்த வேடன் அருகில் இருந்த வில்வ மரத்தில் எறிக் கொண்டான். அப்போதும் அந்த புலி போவதாக தெரியவில்லை. அங்கேயே நின்று கொண்டிருந்தது. இரவு நேரம் நெருங்கி விட்டது. பயண களைப்பில் வேடனால் ஒன்றும் செய்ய முடியவில்லை. ஒரு கணம் கண் அசந்து விட்டால் அவ்வளவு தான் கீழே விழுந்து விடுவோமே என்று யோசித்தான். மரத்தில் உள்ள இலைகளை ஒவ்வொன்றாக பறித்து கீழே போட்டு கொண்டே இருந்தான். கீழே சிவலிங்கம் ஒன்று இருந்தது. சூரியன் உதித்ததும் புலி சென்று விட்டது. மரத்தில் இருந்து கீழே இறங்கிய வேடனுக்கு அசரீரி ஒன்று ஒலித்தது. “மகா சிவராத்திரி அன்று நீ உன்னை அறியாமலே கண் விழித்து வில்வ இலைகளை கொண்டு பூஜித்து பலன்களை பெற்றுள்ளாய். உன் பாவங்கள் அனைத்தும் நீங்கப்பெற்று மோட்சம் அடைவாய்”. என்றது அந்த ஒலி. வேடனை பொறுத்தவரை வேட்டையாடுவது அவனது தொழில். அவன் பாவம் செய்வதற்காக வேட்டையாடவில்லை. எனினும் ஒரு உயிரை கொள்வது பாவம் தான். இல்லை என்றும் கூறி விட முடியாது அல்லவா? தெரிந்தே தான் வேடன் கொல்கின்றான். இவை இறைவனால் தீர்மாணிக்கப்பட்டவை. எனவே தான் பாவம் நீங்கி முக்தி கிடைத்தது. \n  \n 
URL:https://dailypoojaseva.com/event/26-2-2025-%e0%ae%ae%e0%ae%95%e0%ae%be-%e0%ae%9a%e0%ae%bf%e0%ae%b5%e0%ae%b0%e0%ae%be%e0%ae%a4%e0%af%8d%e0%ae%a4%e0%ae%bf%e0%ae%b0%e0%ae%bf/
ATTACH;FMTTYPE=image/jpeg:https://dailypoojaseva.com/wp-content/uploads/2025/02/th-3998266662.jpg
END:VEVENT
BEGIN:VEVENT
DTSTART;VALUE=DATE:20250203
DTEND;VALUE=DATE:20250204
DTSTAMP:20260422T225408
CREATED:20250202T182718Z
LAST-MODIFIED:20250202T182718Z
UID:8827-1738540800-1738627199@dailypoojaseva.com
SUMMARY:03-Feb-2025 – திங்கள் - சஷ்டி விரதம்
DESCRIPTION:
URL:https://dailypoojaseva.com/event/03-feb-2025-%e0%ae%a4%e0%ae%bf%e0%ae%99%e0%af%8d%e0%ae%95%e0%ae%b3%e0%af%8d-%e0%ae%9a%e0%ae%b7%e0%af%8d%e0%ae%9f%e0%ae%bf-%e0%ae%b5%e0%ae%bf%e0%ae%b0%e0%ae%a4%e0%ae%ae%e0%af%8d/
ATTACH;FMTTYPE=image/jpeg:https://dailypoojaseva.com/wp-content/uploads/2024/12/vel.jpg
END:VEVENT
END:VCALENDAR