BEGIN:VCALENDAR
VERSION:2.0
PRODID:-//Daily Pooja Seva - ECPv6.6.1//NONSGML v1.0//EN
CALSCALE:GREGORIAN
METHOD:PUBLISH
X-WR-CALNAME:Daily Pooja Seva
X-ORIGINAL-URL:https://dailypoojaseva.com
X-WR-CALDESC:Events for Daily Pooja Seva
REFRESH-INTERVAL;VALUE=DURATION:PT1H
X-Robots-Tag:noindex
X-PUBLISHED-TTL:PT1H
BEGIN:VTIMEZONE
TZID:UTC
BEGIN:STANDARD
TZOFFSETFROM:+0000
TZOFFSETTO:+0000
TZNAME:UTC
DTSTART:20240101T000000
END:STANDARD
END:VTIMEZONE
BEGIN:VEVENT
DTSTART;VALUE=DATE:20250117
DTEND;VALUE=DATE:20250118
DTSTAMP:20260423T043136
CREATED:20250116T180156Z
LAST-MODIFIED:20250116T180156Z
UID:8799-1737072000-1737158399@dailypoojaseva.com
SUMMARY:17-Jan-2025 – வெள்ளி - சங்கடஹர சதுர்த்தி
DESCRIPTION:
URL:https://dailypoojaseva.com/event/17-jan-2025-%e0%ae%b5%e0%af%86%e0%ae%b3%e0%af%8d%e0%ae%b3%e0%ae%bf-%e0%ae%9a%e0%ae%99%e0%af%8d%e0%ae%95%e0%ae%9f%e0%ae%b9%e0%ae%b0-%e0%ae%9a%e0%ae%a4%e0%af%81%e0%ae%b0%e0%af%8d%e0%ae%a4/
ATTACH;FMTTYPE=image/jpeg:https://dailypoojaseva.com/wp-content/uploads/2024/08/karpaga-vinayagar.jpg
END:VEVENT
BEGIN:VEVENT
DTSTART;VALUE=DATE:20250111
DTEND;VALUE=DATE:20250112
DTSTAMP:20260423T043136
CREATED:20250104T133945Z
LAST-MODIFIED:20250104T133945Z
UID:8778-1736553600-1736639999@dailypoojaseva.com
SUMMARY:11-Jan-2025 - சனி – சனி பிரதோஷம்
DESCRIPTION:
URL:https://dailypoojaseva.com/event/11-jan-2025-%e0%ae%9a%e0%ae%a9%e0%ae%bf-%e0%ae%9a%e0%ae%a9%e0%ae%bf-%e0%ae%aa%e0%ae%bf%e0%ae%b0%e0%ae%a4%e0%af%8b%e0%ae%b7%e0%ae%ae%e0%af%8d/
ATTACH;FMTTYPE=image/jpeg:https://dailypoojaseva.com/wp-content/uploads/2024/08/sani-pradosham.jpg
END:VEVENT
BEGIN:VEVENT
DTSTART;VALUE=DATE:20250110
DTEND;VALUE=DATE:20250111
DTSTAMP:20260423T043136
CREATED:20250104T133828Z
LAST-MODIFIED:20250104T133828Z
UID:8776-1736467200-1736553599@dailypoojaseva.com
SUMMARY:10-Jan-2025 – வெள்ளி - வைகுண்ட ஏகாதசி
DESCRIPTION:
URL:https://dailypoojaseva.com/event/10-jan-2025-%e0%ae%b5%e0%af%86%e0%ae%b3%e0%af%8d%e0%ae%b3%e0%ae%bf-%e0%ae%b5%e0%af%88%e0%ae%95%e0%af%81%e0%ae%a3%e0%af%8d%e0%ae%9f-%e0%ae%8f%e0%ae%95%e0%ae%be%e0%ae%a4%e0%ae%9a%e0%ae%bf/
ATTACH;FMTTYPE=image/jpeg:https://dailypoojaseva.com/wp-content/uploads/2024/09/Namam.jpeg
END:VEVENT
BEGIN:VEVENT
DTSTART;VALUE=DATE:20250109
DTEND;VALUE=DATE:20250110
DTSTAMP:20260423T043136
CREATED:20241223T085708Z
LAST-MODIFIED:20241223T085708Z
UID:8742-1736380800-1736467199@dailypoojaseva.com
SUMMARY:9-Jan-2025 – வியாழன் - கிருத்திகை
DESCRIPTION:
URL:https://dailypoojaseva.com/event/9-jan-2025-%e0%ae%b5%e0%ae%bf%e0%ae%af%e0%ae%be%e0%ae%b4%e0%ae%a9%e0%af%8d-%e0%ae%95%e0%ae%bf%e0%ae%b0%e0%af%81%e0%ae%a4%e0%af%8d%e0%ae%a4%e0%ae%bf%e0%ae%95%e0%af%88/
ATTACH;FMTTYPE=image/jpeg:https://dailypoojaseva.com/wp-content/uploads/2024/08/sasti-viratham.jpg
END:VEVENT
BEGIN:VEVENT
DTSTART;VALUE=DATE:20250105
DTEND;VALUE=DATE:20250106
DTSTAMP:20260423T043136
CREATED:20241223T083547Z
LAST-MODIFIED:20241223T083547Z
UID:8740-1736035200-1736121599@dailypoojaseva.com
SUMMARY:5-Jan-2025 - ஞாயிறு - சஷ்டி விரதம்
DESCRIPTION:
URL:https://dailypoojaseva.com/event/5-jan-2025-%e0%ae%9e%e0%ae%be%e0%ae%af%e0%ae%bf%e0%ae%b1%e0%af%81-%e0%ae%9a%e0%ae%b7%e0%af%8d%e0%ae%9f%e0%ae%bf-%e0%ae%b5%e0%ae%bf%e0%ae%b0%e0%ae%a4%e0%ae%ae%e0%af%8d/
ATTACH;FMTTYPE=image/jpeg:https://dailypoojaseva.com/wp-content/uploads/2024/09/vel-e1726419195582.jpeg
END:VEVENT
BEGIN:VEVENT
DTSTART;VALUE=DATE:20250103
DTEND;VALUE=DATE:20250104
DTSTAMP:20260423T043136
CREATED:20241223T082024Z
LAST-MODIFIED:20241223T082024Z
UID:8735-1735862400-1735948799@dailypoojaseva.com
SUMMARY:3-Jan-2025 – வெள்ளி - சதுர்த்தி விரதம்
DESCRIPTION:
URL:https://dailypoojaseva.com/event/3-jan-2025-%e0%ae%b5%e0%af%86%e0%ae%b3%e0%af%8d%e0%ae%b3%e0%ae%bf-%e0%ae%9a%e0%ae%a4%e0%af%81%e0%ae%b0%e0%af%8d%e0%ae%a4%e0%af%8d%e0%ae%a4%e0%ae%bf-%e0%ae%b5%e0%ae%bf%e0%ae%b0%e0%ae%a4/
ATTACH;FMTTYPE=image/jpeg:https://dailypoojaseva.com/wp-content/uploads/2024/08/vinayaga.jpg
END:VEVENT
BEGIN:VEVENT
DTSTART;VALUE=DATE:20241230
DTEND;VALUE=DATE:20241231
DTSTAMP:20260423T043136
CREATED:20241219T064422Z
LAST-MODIFIED:20241219T064422Z
UID:8732-1735516800-1735603199@dailypoojaseva.com
SUMMARY:30-Dec-2024 – திங்கள் - ஸர்வ அமாவாசை\, ஹனுமந்த ஜெயந்தி
DESCRIPTION:
URL:https://dailypoojaseva.com/event/30-dec-2024-%e0%ae%a4%e0%ae%bf%e0%ae%99%e0%af%8d%e0%ae%95%e0%ae%b3%e0%af%8d-%e0%ae%b8%e0%ae%b0%e0%af%8d%e0%ae%b5-%e0%ae%85%e0%ae%ae%e0%ae%be%e0%ae%b5%e0%ae%be%e0%ae%9a%e0%af%88-%e0%ae%b9/
ATTACH;FMTTYPE=image/jpeg:https://dailypoojaseva.com/wp-content/uploads/2024/08/amavasai.jpg
END:VEVENT
BEGIN:VEVENT
DTSTART;VALUE=DATE:20241228
DTEND;VALUE=DATE:20241229
DTSTAMP:20260423T043136
CREATED:20241219T064258Z
LAST-MODIFIED:20241219T064258Z
UID:8730-1735344000-1735430399@dailypoojaseva.com
SUMMARY:28-Dec-2024 – சனி – சனி பிரதோஷம்
DESCRIPTION:
URL:https://dailypoojaseva.com/event/28-dec-2024-%e0%ae%9a%e0%ae%a9%e0%ae%bf-%e0%ae%9a%e0%ae%a9%e0%ae%bf-%e0%ae%aa%e0%ae%bf%e0%ae%b0%e0%ae%a4%e0%af%8b%e0%ae%b7%e0%ae%ae%e0%af%8d/
ATTACH;FMTTYPE=image/jpeg:https://dailypoojaseva.com/wp-content/uploads/2024/08/sani-pradosham.jpg
END:VEVENT
BEGIN:VEVENT
DTSTART;VALUE=DATE:20241226
DTEND;VALUE=DATE:20241227
DTSTAMP:20260423T043136
CREATED:20241217T075812Z
LAST-MODIFIED:20241217T075813Z
UID:8722-1735171200-1735257599@dailypoojaseva.com
SUMMARY:26-Dec-2024 – வியாழன் – ஏகாதசி
DESCRIPTION:
URL:https://dailypoojaseva.com/event/26-dec-2024-%e0%ae%b5%e0%ae%bf%e0%ae%af%e0%ae%be%e0%ae%b4%e0%ae%a9%e0%af%8d-%e0%ae%8f%e0%ae%95%e0%ae%be%e0%ae%a4%e0%ae%9a%e0%ae%bf/
ATTACH;FMTTYPE=image/jpeg:https://dailypoojaseva.com/wp-content/uploads/2024/09/Namam.jpeg
END:VEVENT
BEGIN:VEVENT
DTSTART;VALUE=DATE:20241218
DTEND;VALUE=DATE:20241219
DTSTAMP:20260423T043136
CREATED:20241217T075710Z
LAST-MODIFIED:20241217T082207Z
UID:8720-1734480000-1734566399@dailypoojaseva.com
SUMMARY:18-Dec-2024 -  புதன்- சங்கடஹர சதுர்த்தி
DESCRIPTION:
URL:https://dailypoojaseva.com/event/18-dec-2024-%e0%ae%aa%e0%af%81%e0%ae%a4%e0%ae%a9%e0%af%8d-%e0%ae%9a%e0%ae%99%e0%af%8d%e0%ae%95%e0%ae%9f%e0%ae%b9%e0%ae%b0-%e0%ae%9a%e0%ae%a4%e0%af%81%e0%ae%b0%e0%af%8d%e0%ae%a4%e0%af%8d%e0%ae%a4/
ATTACH;FMTTYPE=image/jpeg:https://dailypoojaseva.com/wp-content/uploads/2024/08/karpaga-vinayagar.jpg
END:VEVENT
BEGIN:VEVENT
DTSTART;VALUE=DATE:20241215
DTEND;VALUE=DATE:20241216
DTSTAMP:20260423T043136
CREATED:20241201T160617Z
LAST-MODIFIED:20241201T160617Z
UID:8681-1734220800-1734307199@dailypoojaseva.com
SUMMARY:15-Dec-2024 – ஞாயிறு - பௌர்ணமி
DESCRIPTION:
URL:https://dailypoojaseva.com/event/15-dec-2024-%e0%ae%9e%e0%ae%be%e0%ae%af%e0%ae%bf%e0%ae%b1%e0%af%81-%e0%ae%aa%e0%af%8c%e0%ae%b0%e0%af%8d%e0%ae%a3%e0%ae%ae%e0%ae%bf/
ATTACH;FMTTYPE=image/jpeg:https://dailypoojaseva.com/wp-content/uploads/2024/09/pournami.jpeg
END:VEVENT
BEGIN:VEVENT
DTSTART;VALUE=DATE:20241213
DTEND;VALUE=DATE:20241214
DTSTAMP:20260423T043136
CREATED:20241201T160509Z
LAST-MODIFIED:20241201T160509Z
UID:8679-1734048000-1734134399@dailypoojaseva.com
SUMMARY:13-Dec-2024 – வெள்ளி – பிரதோஷம்
DESCRIPTION:
URL:https://dailypoojaseva.com/event/13-dec-2024-%e0%ae%b5%e0%af%86%e0%ae%b3%e0%af%8d%e0%ae%b3%e0%ae%bf-%e0%ae%aa%e0%ae%bf%e0%ae%b0%e0%ae%a4%e0%af%8b%e0%ae%b7%e0%ae%ae%e0%af%8d/
ATTACH;FMTTYPE=image/jpeg:https://dailypoojaseva.com/wp-content/uploads/2024/08/sani-pradosham.jpg
END:VEVENT
BEGIN:VEVENT
DTSTART;VALUE=DATE:20241212
DTEND;VALUE=DATE:20241213
DTSTAMP:20260423T043136
CREATED:20241201T160402Z
LAST-MODIFIED:20241201T160402Z
UID:8677-1733961600-1734047999@dailypoojaseva.com
SUMMARY:12-Dec-2024 – வியாழன் - பரணி தீபம்‌
DESCRIPTION:
URL:https://dailypoojaseva.com/event/12-dec-2024-%e0%ae%b5%e0%ae%bf%e0%ae%af%e0%ae%be%e0%ae%b4%e0%ae%a9%e0%af%8d-%e0%ae%aa%e0%ae%b0%e0%ae%a3%e0%ae%bf-%e0%ae%a4%e0%af%80%e0%ae%aa%e0%ae%ae%e0%af%8d/
END:VEVENT
BEGIN:VEVENT
DTSTART;VALUE=DATE:20241206
DTEND;VALUE=DATE:20241207
DTSTAMP:20260423T043136
CREATED:20241201T160143Z
LAST-MODIFIED:20241201T161700Z
UID:8674-1733443200-1733529599@dailypoojaseva.com
SUMMARY:06-Dec-2024 – வெள்ளி - சஷ்டி விரதம்
DESCRIPTION:
URL:https://dailypoojaseva.com/event/06-dec-2024-%e0%ae%b5%e0%af%86%e0%ae%b3%e0%af%8d%e0%ae%b3%e0%ae%bf-%e0%ae%9a%e0%ae%b7%e0%af%8d%e0%ae%9f%e0%ae%bf-%e0%ae%b5%e0%ae%bf%e0%ae%b0%e0%ae%a4%e0%ae%ae%e0%af%8d/
ATTACH;FMTTYPE=image/jpeg:https://dailypoojaseva.com/wp-content/uploads/2024/12/vel.jpg
END:VEVENT
BEGIN:VEVENT
DTSTART;VALUE=DATE:20241205
DTEND;VALUE=DATE:20241206
DTSTAMP:20260423T043136
CREATED:20241201T160033Z
LAST-MODIFIED:20241201T160033Z
UID:8671-1733356800-1733443199@dailypoojaseva.com
SUMMARY:05- Dec-2024 - வியாழன் - சதுர்த்தி விரதம்
DESCRIPTION:
URL:https://dailypoojaseva.com/event/05-dec-2024-%e0%ae%b5%e0%ae%bf%e0%ae%af%e0%ae%be%e0%ae%b4%e0%ae%a9%e0%af%8d-%e0%ae%9a%e0%ae%a4%e0%af%81%e0%ae%b0%e0%af%8d%e0%ae%a4%e0%af%8d%e0%ae%a4%e0%ae%bf-%e0%ae%b5%e0%ae%bf%e0%ae%b0%e0%ae%a4/
ATTACH;FMTTYPE=image/jpeg:https://dailypoojaseva.com/wp-content/uploads/2024/12/chathurthi-viratham.jpeg
END:VEVENT
BEGIN:VEVENT
DTSTART;VALUE=DATE:20241130
DTEND;VALUE=DATE:20241201
DTSTAMP:20260423T043136
CREATED:20241118T064902Z
LAST-MODIFIED:20241118T064902Z
UID:8662-1732924800-1733011199@dailypoojaseva.com
SUMMARY:30-Nov-2024 - சனி - அமாவாசை
DESCRIPTION:
URL:https://dailypoojaseva.com/event/30-nov-2024-%e0%ae%9a%e0%ae%a9%e0%ae%bf-%e0%ae%85%e0%ae%ae%e0%ae%be%e0%ae%b5%e0%ae%be%e0%ae%9a%e0%af%88/
ATTACH;FMTTYPE=image/jpeg:https://dailypoojaseva.com/wp-content/uploads/2024/08/amavasai.jpg
END:VEVENT
BEGIN:VEVENT
DTSTART;VALUE=DATE:20241128
DTEND;VALUE=DATE:20241129
DTSTAMP:20260423T043136
CREATED:20241118T064757Z
LAST-MODIFIED:20241118T064757Z
UID:8660-1732752000-1732838399@dailypoojaseva.com
SUMMARY:28-Nov-2024 -  வியாழன்  - பிரதோஷம்
DESCRIPTION:
URL:https://dailypoojaseva.com/event/28-nov-2024-%e0%ae%b5%e0%ae%bf%e0%ae%af%e0%ae%be%e0%ae%b4%e0%ae%a9%e0%af%8d-%e0%ae%aa%e0%ae%bf%e0%ae%b0%e0%ae%a4%e0%af%8b%e0%ae%b7%e0%ae%ae%e0%af%8d/
ATTACH;FMTTYPE=image/jpeg:https://dailypoojaseva.com/wp-content/uploads/2024/08/sani-pradosham.jpg
END:VEVENT
BEGIN:VEVENT
DTSTART;VALUE=DATE:20241126
DTEND;VALUE=DATE:20241127
DTSTAMP:20260423T043136
CREATED:20241118T064559Z
LAST-MODIFIED:20241118T064559Z
UID:8658-1732579200-1732665599@dailypoojaseva.com
SUMMARY:26-Nov-2024 - செவ்வாய்  - ஏகாதசி
DESCRIPTION:
URL:https://dailypoojaseva.com/event/26-nov-2024-%e0%ae%9a%e0%af%86%e0%ae%b5%e0%af%8d%e0%ae%b5%e0%ae%be%e0%ae%af%e0%af%8d-%e0%ae%8f%e0%ae%95%e0%ae%be%e0%ae%a4%e0%ae%9a%e0%ae%bf/
ATTACH;FMTTYPE=image/jpeg:https://dailypoojaseva.com/wp-content/uploads/2024/09/Namam.jpeg
END:VEVENT
BEGIN:VEVENT
DTSTART;VALUE=DATE:20241119
DTEND;VALUE=DATE:20241120
DTSTAMP:20260423T043136
CREATED:20241118T064236Z
LAST-MODIFIED:20241118T064236Z
UID:8656-1731974400-1732060799@dailypoojaseva.com
SUMMARY:19-Nov-2024 – செவ்வாய் - சங்கடஹர சதுர்த்தி
DESCRIPTION:
URL:https://dailypoojaseva.com/event/19-nov-2024-%e0%ae%9a%e0%af%86%e0%ae%b5%e0%af%8d%e0%ae%b5%e0%ae%be%e0%ae%af%e0%af%8d-%e0%ae%9a%e0%ae%99%e0%af%8d%e0%ae%95%e0%ae%9f%e0%ae%b9%e0%ae%b0-%e0%ae%9a%e0%ae%a4%e0%af%81%e0%ae%b0/
ATTACH;FMTTYPE=image/jpeg:https://dailypoojaseva.com/wp-content/uploads/2024/08/karpaga-vinayagar.jpg
END:VEVENT
BEGIN:VEVENT
DTSTART;VALUE=DATE:20241115
DTEND;VALUE=DATE:20241116
DTSTAMP:20260423T043136
CREATED:20241104T092708Z
LAST-MODIFIED:20241104T092708Z
UID:8637-1731628800-1731715199@dailypoojaseva.com
SUMMARY:15-Nov-2024 – வெள்ளி – பௌர்ணமி\,  அன்னாபிஷேகம்
DESCRIPTION:
URL:https://dailypoojaseva.com/event/15-nov-2024-%e0%ae%b5%e0%af%86%e0%ae%b3%e0%af%8d%e0%ae%b3%e0%ae%bf-%e0%ae%aa%e0%af%8c%e0%ae%b0%e0%af%8d%e0%ae%a3%e0%ae%ae%e0%ae%bf-%e0%ae%85%e0%ae%a9%e0%af%8d%e0%ae%a9%e0%ae%be/
ATTACH;FMTTYPE=image/jpeg:https://dailypoojaseva.com/wp-content/uploads/2024/09/pournami.jpeg
END:VEVENT
BEGIN:VEVENT
DTSTART;VALUE=DATE:20241113
DTEND;VALUE=DATE:20241114
DTSTAMP:20260423T043136
CREATED:20241104T092604Z
LAST-MODIFIED:20241104T092604Z
UID:8635-1731456000-1731542399@dailypoojaseva.com
SUMMARY:13-Nov-2024 -  புதன் – பிரதோஷம்
DESCRIPTION:
URL:https://dailypoojaseva.com/event/13-nov-2024-%e0%ae%aa%e0%af%81%e0%ae%a4%e0%ae%a9%e0%af%8d-%e0%ae%aa%e0%ae%bf%e0%ae%b0%e0%ae%a4%e0%af%8b%e0%ae%b7%e0%ae%ae%e0%af%8d/
ATTACH;FMTTYPE=image/jpeg:https://dailypoojaseva.com/wp-content/uploads/2024/08/sani-pradosham.jpg
END:VEVENT
BEGIN:VEVENT
DTSTART;VALUE=DATE:20241112
DTEND;VALUE=DATE:20241113
DTSTAMP:20260423T043136
CREATED:20241104T090326Z
LAST-MODIFIED:20241104T092129Z
UID:8627-1731369600-1731455999@dailypoojaseva.com
SUMMARY:12-Nov-2024 – செவ்வாய் -ஏகாதசி\, சதுர்மாஸ்ய வ்ரத பூர்த்தி
DESCRIPTION:
URL:https://dailypoojaseva.com/event/7-nov-2024-%e0%ae%b5%e0%ae%bf%e0%ae%af%e0%ae%be%e0%ae%b4%e0%ae%a9%e0%af%8d-%e0%ae%9a%e0%ae%b7%e0%af%8d%e0%ae%9f%e0%ae%bf-%e0%ae%b5%e0%ae%bf%e0%ae%b0%e0%ae%a4%e0%ae%ae%e0%af%8d-%e0%ae%95/
ATTACH;FMTTYPE=image/jpeg:https://dailypoojaseva.com/wp-content/uploads/2024/09/Namam.jpeg
END:VEVENT
BEGIN:VEVENT
DTSTART;VALUE=DATE:20241107
DTEND;VALUE=DATE:20241108
DTSTAMP:20260423T043136
CREATED:20241104T092239Z
LAST-MODIFIED:20241104T092239Z
UID:8631-1730937600-1731023999@dailypoojaseva.com
SUMMARY:7-Nov-2024 – வியாழன் - சஷ்டி விரதம்\, கந்த சஷ்டி\,  சூரசம்ஹாரம்
DESCRIPTION:
URL:https://dailypoojaseva.com/event/7-nov-2024-%e0%ae%b5%e0%ae%bf%e0%ae%af%e0%ae%be%e0%ae%b4%e0%ae%a9%e0%af%8d-%e0%ae%9a%e0%ae%b7%e0%af%8d%e0%ae%9f%e0%ae%bf-%e0%ae%b5%e0%ae%bf%e0%ae%b0%e0%ae%a4%e0%ae%ae%e0%af%8d-%e0%ae%95-2/
ATTACH;FMTTYPE=image/jpeg:https://dailypoojaseva.com/wp-content/uploads/2024/09/vel-e1726419195582.jpeg
END:VEVENT
BEGIN:VEVENT
DTSTART;VALUE=DATE:20241105
DTEND;VALUE=DATE:20241106
DTSTAMP:20260423T043136
CREATED:20241103T171136Z
LAST-MODIFIED:20241103T171136Z
UID:8625-1730764800-1730851199@dailypoojaseva.com
SUMMARY:5 – Nov-2024 – செவ்வாய் - சதுர்த்தி விரதம்
DESCRIPTION:
URL:https://dailypoojaseva.com/event/5-nov-2024-%e0%ae%9a%e0%af%86%e0%ae%b5%e0%af%8d%e0%ae%b5%e0%ae%be%e0%ae%af%e0%af%8d-%e0%ae%9a%e0%ae%a4%e0%af%81%e0%ae%b0%e0%af%8d%e0%ae%a4%e0%af%8d%e0%ae%a4%e0%ae%bf-%e0%ae%b5/
ATTACH;FMTTYPE=image/jpeg:https://dailypoojaseva.com/wp-content/uploads/2024/08/vinayaga.jpg
END:VEVENT
BEGIN:VEVENT
DTSTART;VALUE=DATE:20241031
DTEND;VALUE=DATE:20241101
DTSTAMP:20260423T043136
CREATED:20241019T185116Z
LAST-MODIFIED:20241019T185116Z
UID:8605-1730332800-1730419199@dailypoojaseva.com
SUMMARY:தீபாவளி பண்டிகை (வியாழன்)
DESCRIPTION:
URL:https://dailypoojaseva.com/event/%e0%ae%a4%e0%af%80%e0%ae%aa%e0%ae%be%e0%ae%b5%e0%ae%b3%e0%ae%bf-%e0%ae%aa%e0%ae%a3%e0%af%8d%e0%ae%9f%e0%ae%bf%e0%ae%95%e0%af%88-%e0%ae%b5%e0%ae%bf%e0%ae%af%e0%ae%be%e0%ae%b4%e0%ae%a9%e0%af%8d/
ATTACH;FMTTYPE=image/jpeg:https://dailypoojaseva.com/wp-content/uploads/2024/10/diwali.jpg
END:VEVENT
BEGIN:VEVENT
DTSTART;VALUE=DATE:20241030
DTEND;VALUE=DATE:20241031
DTSTAMP:20260423T043136
CREATED:20241019T184740Z
LAST-MODIFIED:20241019T184740Z
UID:8603-1730246400-1730332799@dailypoojaseva.com
SUMMARY:மாத சிவராத்திரி (புதன்)
DESCRIPTION:
URL:https://dailypoojaseva.com/event/%e0%ae%ae%e0%ae%be%e0%ae%a4-%e0%ae%9a%e0%ae%bf%e0%ae%b5%e0%ae%b0%e0%ae%be%e0%ae%a4%e0%af%8d%e0%ae%a4%e0%ae%bf%e0%ae%b0%e0%ae%bf-%e0%ae%aa%e0%af%81%e0%ae%a4%e0%ae%a9%e0%af%8d/
ATTACH;FMTTYPE=image/jpeg:https://dailypoojaseva.com/wp-content/uploads/2024/10/pradosham.jpeg
END:VEVENT
BEGIN:VEVENT
DTSTART;VALUE=DATE:20241029
DTEND;VALUE=DATE:20241030
DTSTAMP:20260423T043136
CREATED:20241019T184536Z
LAST-MODIFIED:20241019T184536Z
UID:8601-1730160000-1730246399@dailypoojaseva.com
SUMMARY:பிரதோஷம் (செவ்வாய்)
DESCRIPTION:
URL:https://dailypoojaseva.com/event/%e0%ae%aa%e0%ae%bf%e0%ae%b0%e0%ae%a4%e0%af%8b%e0%ae%b7%e0%ae%ae%e0%af%8d-%e0%ae%9a%e0%af%86%e0%ae%b5%e0%af%8d%e0%ae%b5%e0%ae%be%e0%ae%af%e0%af%8d/
ATTACH;FMTTYPE=image/jpeg:https://dailypoojaseva.com/wp-content/uploads/2024/08/sani-pradosham.jpg
END:VEVENT
BEGIN:VEVENT
DTSTART;VALUE=DATE:20241028
DTEND;VALUE=DATE:20241029
DTSTAMP:20260423T043136
CREATED:20241019T184358Z
LAST-MODIFIED:20241019T184358Z
UID:8599-1730073600-1730159999@dailypoojaseva.com
SUMMARY:ஏகாதசி (திங்கள்)
DESCRIPTION:
URL:https://dailypoojaseva.com/event/%e0%ae%8f%e0%ae%95%e0%ae%be%e0%ae%a4%e0%ae%9a%e0%ae%bf-%e0%ae%a4%e0%ae%bf%e0%ae%99%e0%af%8d%e0%ae%95%e0%ae%b3%e0%af%8d/
ATTACH;FMTTYPE=image/jpeg:https://dailypoojaseva.com/wp-content/uploads/2024/09/Namam.jpeg
END:VEVENT
BEGIN:VEVENT
DTSTART;VALUE=DATE:20241020
DTEND;VALUE=DATE:20241021
DTSTAMP:20260423T043136
CREATED:20241019T183055Z
LAST-MODIFIED:20241019T184226Z
UID:8587-1729382400-1729468799@dailypoojaseva.com
SUMMARY:சங்கடஹர சதுர்த்தி (ஞாயிற்றுக்கிழமை)
DESCRIPTION:
URL:https://dailypoojaseva.com/event/20-10-2024-%e0%ae%9e%e0%ae%be%e0%ae%af%e0%ae%bf%e0%ae%b1%e0%af%8d%e0%ae%b1%e0%af%81%e0%ae%95%e0%af%8d%e0%ae%95%e0%ae%bf%e0%ae%b4%e0%ae%ae%e0%af%88-%e0%ae%9a%e0%ae%99%e0%af%8d%e0%ae%95/
ATTACH;FMTTYPE=image/jpeg:https://dailypoojaseva.com/wp-content/uploads/2024/08/karpaga-vinayagar.jpg
END:VEVENT
BEGIN:VEVENT
DTSTART;VALUE=DATE:20241015
DTEND;VALUE=DATE:20241016
DTSTAMP:20260423T043136
CREATED:20241014T062523Z
LAST-MODIFIED:20241014T062523Z
UID:8557-1728950400-1729036799@dailypoojaseva.com
SUMMARY:15-10-2024  பிரதோஷம்
DESCRIPTION:
URL:https://dailypoojaseva.com/event/15-10-2024-%e0%ae%aa%e0%ae%bf%e0%ae%b0%e0%ae%a4%e0%af%8b%e0%ae%b7%e0%ae%ae%e0%af%8d/
ATTACH;FMTTYPE=image/jpeg:https://dailypoojaseva.com/wp-content/uploads/2024/10/pradosham.jpeg
END:VEVENT
END:VCALENDAR