BEGIN:VCALENDAR
VERSION:2.0
PRODID:-//Daily Pooja Seva - ECPv6.6.1//NONSGML v1.0//EN
CALSCALE:GREGORIAN
METHOD:PUBLISH
X-ORIGINAL-URL:https://dailypoojaseva.com
X-WR-CALDESC:Events for Daily Pooja Seva
REFRESH-INTERVAL;VALUE=DURATION:PT1H
X-Robots-Tag:noindex
X-PUBLISHED-TTL:PT1H
BEGIN:VTIMEZONE
TZID:UTC
BEGIN:STANDARD
TZOFFSETFROM:+0000
TZOFFSETTO:+0000
TZNAME:UTC
DTSTART:20250101T000000
END:STANDARD
END:VTIMEZONE
BEGIN:VEVENT
DTSTART;VALUE=DATE:20250601
DTEND;VALUE=DATE:20250602
DTSTAMP:20260423T020215
CREATED:20250523T101747Z
LAST-MODIFIED:20250523T140351Z
UID:8883-1748736000-1748822399@dailypoojaseva.com
SUMMARY:01-June-2025 – ஞாயிறு - சஷ்டி விரதம்
DESCRIPTION:
URL:https://dailypoojaseva.com/event/01-june-2025-%e0%ae%9e%e0%ae%be%e0%ae%af%e0%ae%bf%e0%ae%b1%e0%af%81-%e0%ae%9a%e0%ae%b7%e0%af%8d%e0%ae%9f%e0%ae%bf-%e0%ae%b5%e0%ae%bf%e0%ae%b0%e0%ae%a4%e0%ae%ae%e0%af%8d/
ATTACH;FMTTYPE=image/jpeg:https://dailypoojaseva.com/wp-content/uploads/2024/12/vel.jpg
END:VEVENT
BEGIN:VEVENT
DTSTART;VALUE=DATE:20250608
DTEND;VALUE=DATE:20250609
DTSTAMP:20260423T020215
CREATED:20250523T101846Z
LAST-MODIFIED:20250523T140033Z
UID:8885-1749340800-1749427199@dailypoojaseva.com
SUMMARY:08-June-2025 – ஞாயிறு - மஹா பிரதோஷம்
DESCRIPTION:
URL:https://dailypoojaseva.com/event/08-june-2025-%e0%ae%9e%e0%ae%be%e0%ae%af%e0%ae%bf%e0%ae%b1%e0%af%81-%e0%ae%ae%e0%ae%b9%e0%ae%be-%e0%ae%aa%e0%ae%bf%e0%ae%b0%e0%ae%a4%e0%af%8b%e0%ae%b7%e0%ae%ae%e0%af%8d/
ATTACH;FMTTYPE=image/jpeg:https://dailypoojaseva.com/wp-content/uploads/2024/08/vinayaga.jpg
END:VEVENT
BEGIN:VEVENT
DTSTART;VALUE=DATE:20250629
DTEND;VALUE=DATE:20250630
DTSTAMP:20260423T020215
CREATED:20250628T172734Z
LAST-MODIFIED:20250628T173446Z
UID:8901-1751155200-1751241599@dailypoojaseva.com
SUMMARY:29-06-2025 – ஞாயிற்றுக்கிழமை - சதுர்த்தி விரதம்
DESCRIPTION:
URL:https://dailypoojaseva.com/event/29-06-2025-%e0%ae%9e%e0%ae%be%e0%ae%af%e0%ae%bf%e0%ae%b1%e0%af%8d%e0%ae%b1%e0%af%81%e0%ae%95%e0%af%8d%e0%ae%95%e0%ae%bf%e0%ae%b4%e0%ae%ae%e0%af%88-%e0%ae%9a%e0%ae%a4%e0%af%81%e0%ae%b0/
ATTACH;FMTTYPE=image/jpeg:https://dailypoojaseva.com/wp-content/uploads/2024/08/karpaga-vinayagar.jpg
END:VEVENT
END:VCALENDAR