BEGIN:VCALENDAR
VERSION:2.0
PRODID:-//Daily Pooja Seva - ECPv6.6.1//NONSGML v1.0//EN
CALSCALE:GREGORIAN
METHOD:PUBLISH
X-ORIGINAL-URL:https://dailypoojaseva.com
X-WR-CALDESC:Events for Daily Pooja Seva
REFRESH-INTERVAL;VALUE=DURATION:PT1H
X-Robots-Tag:noindex
X-PUBLISHED-TTL:PT1H
BEGIN:VTIMEZONE
TZID:UTC
BEGIN:STANDARD
TZOFFSETFROM:+0000
TZOFFSETTO:+0000
TZNAME:UTC
DTSTART:20250101T000000
END:STANDARD
END:VTIMEZONE
BEGIN:VEVENT
DTSTART;VALUE=DATE:20250922
DTEND;VALUE=DATE:20251003
DTSTAMP:20260422T195915
CREATED:20250915T023742Z
LAST-MODIFIED:20250923T025016Z
UID:9035-1758499200-1759449599@dailypoojaseva.com
SUMMARY:22-Sep-2025 – 02-Oct-2025 -  நவராத்திரி
DESCRIPTION:
URL:https://dailypoojaseva.com/event/22-sep-2025-%e0%ae%a4%e0%ae%bf%e0%ae%99%e0%af%8d%e0%ae%95%e0%ae%b3%e0%af%8d-%e0%ae%9a%e0%ae%b0%e0%ae%a4%e0%af%8d-%e0%ae%a8%e0%ae%b5%e0%ae%b0%e0%ae%be%e0%ae%a4%e0%af%8d%e0%ae%a4%e0%ae%bf/
ATTACH;FMTTYPE=image/jpeg:https://dailypoojaseva.com/wp-content/uploads/2025/09/navarathri.jpg
END:VEVENT
BEGIN:VEVENT
DTSTART;VALUE=DATE:20251001
DTEND;VALUE=DATE:20251002
DTSTAMP:20260422T195915
CREATED:20250923T025320Z
LAST-MODIFIED:20250923T025320Z
UID:9044-1759276800-1759363199@dailypoojaseva.com
SUMMARY:01-Oct-2025 – புதன்- சரஸ்வதி பூஜை\, ஆயுத பூஜை
DESCRIPTION:
URL:https://dailypoojaseva.com/event/01-oct-2025-%e0%ae%aa%e0%af%81%e0%ae%a4%e0%ae%a9%e0%af%8d-%e0%ae%9a%e0%ae%b0%e0%ae%b8%e0%af%8d%e0%ae%b5%e0%ae%a4%e0%ae%bf-%e0%ae%aa%e0%af%82%e0%ae%9c%e0%af%88-%e0%ae%86%e0%ae%af%e0%af%81/
ATTACH;FMTTYPE=image/jpeg:https://dailypoojaseva.com/wp-content/uploads/2025/09/Maa-Saraswati-HD-Wallpaper-2307124645.jpg
END:VEVENT
BEGIN:VEVENT
DTSTART;VALUE=DATE:20251002
DTEND;VALUE=DATE:20251003
DTSTAMP:20260422T195915
CREATED:20250923T025750Z
LAST-MODIFIED:20250923T025750Z
UID:9047-1759363200-1759449599@dailypoojaseva.com
SUMMARY:02-Oct-2025 – வியாழன் - விஜயதசமி
DESCRIPTION:
URL:https://dailypoojaseva.com/event/02-oct-2025-%e0%ae%b5%e0%ae%bf%e0%ae%af%e0%ae%be%e0%ae%b4%e0%ae%a9%e0%af%8d-%e0%ae%b5%e0%ae%bf%e0%ae%9c%e0%ae%af%e0%ae%a4%e0%ae%9a%e0%ae%ae%e0%ae%bf/
ATTACH;FMTTYPE=image/jpeg:https://dailypoojaseva.com/wp-content/uploads/2025/09/happy-Vijayadasami-Pictures.jpg
END:VEVENT
BEGIN:VEVENT
DTSTART;VALUE=DATE:20251003
DTEND;VALUE=DATE:20251004
DTSTAMP:20260422T195915
CREATED:20250923T025921Z
LAST-MODIFIED:20250923T030356Z
UID:9050-1759449600-1759535999@dailypoojaseva.com
SUMMARY:03-Oct-2025 – வெள்ளி – ஏகாதசி
DESCRIPTION:
URL:https://dailypoojaseva.com/event/03-oct-2025-%e0%ae%b5%e0%af%86%e0%ae%b3%e0%af%8d%e0%ae%b3%e0%ae%bf-%e0%ae%8f%e0%ae%95%e0%ae%be%e0%ae%a4%e0%ae%9a%e0%ae%bf/
ATTACH;FMTTYPE=image/jpeg:https://dailypoojaseva.com/wp-content/uploads/2024/09/Namam.jpeg
END:VEVENT
BEGIN:VEVENT
DTSTART;VALUE=DATE:20251004
DTEND;VALUE=DATE:20251005
DTSTAMP:20260422T195915
CREATED:20250923T030043Z
LAST-MODIFIED:20250923T030237Z
UID:9053-1759536000-1759622399@dailypoojaseva.com
SUMMARY:04-Oct-2025 – சனிக்கிழமை - சனி மஹா பிரதோஷம்
DESCRIPTION:
URL:https://dailypoojaseva.com/event/04-oct-2025-%e0%ae%9a%e0%ae%a9%e0%ae%bf%e0%ae%95%e0%af%8d%e0%ae%95%e0%ae%bf%e0%ae%b4%e0%ae%ae%e0%af%88-%e0%ae%9a%e0%ae%a9%e0%ae%bf-%e0%ae%ae%e0%ae%b9%e0%ae%be-%e0%ae%aa%e0%ae%bf%e0%ae%b0/
ATTACH;FMTTYPE=image/jpeg:https://dailypoojaseva.com/wp-content/uploads/2024/08/sani-pradosham.jpg
END:VEVENT
BEGIN:VEVENT
DTSTART;VALUE=DATE:20251006
DTEND;VALUE=DATE:20251007
DTSTAMP:20260422T195915
CREATED:20251003T172002Z
LAST-MODIFIED:20251003T172002Z
UID:9063-1759708800-1759795199@dailypoojaseva.com
SUMMARY:06-Oct-2025 – திங்கள்- பௌர்ணமி
DESCRIPTION:
URL:https://dailypoojaseva.com/event/06-oct-2025-%e0%ae%a4%e0%ae%bf%e0%ae%99%e0%af%8d%e0%ae%95%e0%ae%b3%e0%af%8d-%e0%ae%aa%e0%af%8c%e0%ae%b0%e0%af%8d%e0%ae%a3%e0%ae%ae%e0%ae%bf/
ATTACH;FMTTYPE=image/jpeg:https://dailypoojaseva.com/wp-content/uploads/2024/09/pournami.jpeg
END:VEVENT
BEGIN:VEVENT
DTSTART;VALUE=DATE:20251010
DTEND;VALUE=DATE:20251011
DTSTAMP:20260422T195915
CREATED:20251003T172114Z
LAST-MODIFIED:20251003T172114Z
UID:9065-1760054400-1760140799@dailypoojaseva.com
SUMMARY:10-Oct-2025 – வெள்ளி -  சங்கட ஹர சதுர்த்தி
DESCRIPTION:
URL:https://dailypoojaseva.com/event/10-oct-2025-%e0%ae%b5%e0%af%86%e0%ae%b3%e0%af%8d%e0%ae%b3%e0%ae%bf-%e0%ae%9a%e0%ae%99%e0%af%8d%e0%ae%95%e0%ae%9f-%e0%ae%b9%e0%ae%b0-%e0%ae%9a%e0%ae%a4%e0%af%81%e0%ae%b0%e0%af%8d%e0%ae%a4/
ATTACH;FMTTYPE=image/jpeg:https://dailypoojaseva.com/wp-content/uploads/2024/08/karpaga-vinayagar.jpg
END:VEVENT
BEGIN:VEVENT
DTSTART;VALUE=DATE:20251018
DTEND;VALUE=DATE:20251019
DTSTAMP:20260422T195915
CREATED:20251017T175913Z
LAST-MODIFIED:20251017T175913Z
UID:9068-1760745600-1760831999@dailypoojaseva.com
SUMMARY:18-Oct-2025 – சனிக்கிழமை - சனி மஹா பிரதோஷம்
DESCRIPTION:
URL:https://dailypoojaseva.com/event/18-oct-2025-%e0%ae%9a%e0%ae%a9%e0%ae%bf%e0%ae%95%e0%af%8d%e0%ae%95%e0%ae%bf%e0%ae%b4%e0%ae%ae%e0%af%88-%e0%ae%9a%e0%ae%a9%e0%ae%bf-%e0%ae%ae%e0%ae%b9%e0%ae%be-%e0%ae%aa%e0%ae%bf%e0%ae%b0/
ATTACH;FMTTYPE=image/jpeg:https://dailypoojaseva.com/wp-content/uploads/2024/08/sani-pradosham.jpg
END:VEVENT
BEGIN:VEVENT
DTSTART;VALUE=DATE:20251020
DTEND;VALUE=DATE:20251021
DTSTAMP:20260422T195915
CREATED:20251017T180838Z
LAST-MODIFIED:20251017T180838Z
UID:9070-1760918400-1761004799@dailypoojaseva.com
SUMMARY:20-Oct-2025- திங்கள்- தீபாவளி பண்டிகை
DESCRIPTION:
URL:https://dailypoojaseva.com/event/20-oct-2025-%e0%ae%a4%e0%ae%bf%e0%ae%99%e0%af%8d%e0%ae%95%e0%ae%b3%e0%af%8d-%e0%ae%a4%e0%af%80%e0%ae%aa%e0%ae%be%e0%ae%b5%e0%ae%b3%e0%ae%bf-%e0%ae%aa%e0%ae%a3%e0%af%8d%e0%ae%9f%e0%ae%bf%e0%ae%95/
ATTACH;FMTTYPE=image/jpeg:https://dailypoojaseva.com/wp-content/uploads/2025/10/diwali-scaled.jpg
END:VEVENT
BEGIN:VEVENT
DTSTART;VALUE=DATE:20251021
DTEND;VALUE=DATE:20251022
DTSTAMP:20260422T195915
CREATED:20251017T180940Z
LAST-MODIFIED:20251017T180940Z
UID:9073-1761004800-1761091199@dailypoojaseva.com
SUMMARY:21-Oct-2025- செவ்வாய்- அமாவாசை\, ஸ்ரீ லக்ஷ்மி குபேர பூஜை
DESCRIPTION:
URL:https://dailypoojaseva.com/event/21-oct-2025-%e0%ae%9a%e0%af%86%e0%ae%b5%e0%af%8d%e0%ae%b5%e0%ae%be%e0%ae%af%e0%af%8d-%e0%ae%85%e0%ae%ae%e0%ae%be%e0%ae%b5%e0%ae%be%e0%ae%9a%e0%af%88-%e0%ae%b8%e0%af%8d%e0%ae%b0%e0%af%80-%e0%ae%b2/
ATTACH;FMTTYPE=image/jpeg:https://dailypoojaseva.com/wp-content/uploads/2024/08/amavasai.jpg
END:VEVENT
BEGIN:VEVENT
DTSTART;VALUE=DATE:20251022
DTEND;VALUE=DATE:20251023
DTSTAMP:20260422T195915
CREATED:20251017T181043Z
LAST-MODIFIED:20251017T181043Z
UID:9075-1761091200-1761177599@dailypoojaseva.com
SUMMARY:22-Oct-2025- புதன்- ஸ்கந்த சஷ்டி உற்சவம் ஆரம்பம்
DESCRIPTION:
URL:https://dailypoojaseva.com/event/22-oct-2025-%e0%ae%aa%e0%af%81%e0%ae%a4%e0%ae%a9%e0%af%8d-%e0%ae%b8%e0%af%8d%e0%ae%95%e0%ae%a8%e0%af%8d%e0%ae%a4-%e0%ae%9a%e0%ae%b7%e0%af%8d%e0%ae%9f%e0%ae%bf-%e0%ae%89%e0%ae%b1%e0%af%8d%e0%ae%9a/
ATTACH;FMTTYPE=image/jpeg:https://dailypoojaseva.com/wp-content/uploads/2024/08/sasti-viratham.jpg
END:VEVENT
BEGIN:VEVENT
DTSTART;VALUE=DATE:20251027
DTEND;VALUE=DATE:20251028
DTSTAMP:20260422T195915
CREATED:20251026T023143Z
LAST-MODIFIED:20251026T023143Z
UID:9083-1761523200-1761609599@dailypoojaseva.com
SUMMARY:27-Oct-2025- திங்கள்- ஸ்கந்த சஷ்டி\, சூரசம்ஹாரம்
DESCRIPTION:
URL:https://dailypoojaseva.com/event/27-oct-2025-%e0%ae%a4%e0%ae%bf%e0%ae%99%e0%af%8d%e0%ae%95%e0%ae%b3%e0%af%8d-%e0%ae%b8%e0%af%8d%e0%ae%95%e0%ae%a8%e0%af%8d%e0%ae%a4-%e0%ae%9a%e0%ae%b7%e0%af%8d%e0%ae%9f%e0%ae%bf-%e0%ae%9a%e0%af%82/
ATTACH;FMTTYPE=image/jpeg:https://dailypoojaseva.com/wp-content/uploads/2024/12/vel.jpg
END:VEVENT
END:VCALENDAR